BEGIN:VCALENDAR
VERSION:2.0
BEGIN:VEVENT
URL:https://lemondedesparents.com/js-events/viewevent/1-methode-papa-expert 
DTSTART:20220510T090000
DTEND:20220510T181500
SUMMARY:Méthode Papa Expert 
DESCRIPTION:Formation à la paternité de 7h 
LOCATION:La Samaritaine 
END:VEVENT
END:VCALENDAR